Workbook

Sheet 業務分担表
A1: 業務分担表
A2: 対象チーム | C2: （例）営業企画部 第1グループ | F2: 作成日 | H2: 46302
A3: 白いセル＝入力欄／薄い青のセル＝自動計算欄（数式が入っています。上書きしないでください） ※6〜8行目は記入例です。上書きしてお使いください
A5: No. | B5: 業務名 | C5: 業務分類 | D5: 主担当 | E5: 副担当 （代われる人） | F5: 1回あたり 所要時間(分) | G5: 月間 発生回数 | H5: 月間工数 (時間) | I5: マニュアル | J5: 引き継ぎ 難度 | K5: 偏りリスク | L5: 備考
A6: =IF(B6="","",ROW()-5) -> 1 | B6: 月次売上レポート作成 | C6: 定型・報告 | D6: 佐藤 | E6: なし | F6: 180 | G6: 1 | H6: =IF(OR(F6="",G6=""),"",ROUND(F6*G6/60,1)) -> 3 | I6: 無 | J6: 高 | K6: =IF(B6="","",IF(AND(E6="なし",I6="無"),"高",IF(OR(E6="なし",I6="無"),"中","低"))) -> 高 | L6: 経営会議提出用
A7: =IF(B7="","",ROW()-5) -> 2 | B7: 問い合わせ一次対応 | C7: 定型・対応 | D7: 佐藤 | E7: 鈴木 | F7: 15 | G7: 60 | H7: =IF(OR(F7="",G7=""),"",ROUND(F7*G7/60,1)) -> 15 | I7: 有 | J7: 低 | K7: =IF(B7="","",IF(AND(E7="なし",I7="無"),"高",IF(OR(E7="なし",I7="無"),"中","低"))) -> 低
A8: =IF(B8="","",ROW()-5) -> 3 | B8: 展示会の企画立案 | C8: 非定型・企画 | D8: 鈴木 | E8: なし | F8: 480 | G8: 1 | H8: =IF(OR(F8="",G8=""),"",ROUND(F8*G8/60,1)) -> 8 | I8: 無 | J8: 高 | K8: =IF(B8="","",IF(AND(E8="なし",I8="無"),"高",IF(OR(E8="なし",I8="無"),"中","低"))) -> 高 | L8: 年2回
A9: =IF(B9="","",ROW()-5) | H9: =IF(OR(F9="",G9=""),"",ROUND(F9*G9/60,1)) | K9: =IF(B9="","",IF(AND(E9="なし",I9="無"),"高",IF(OR(E9="なし",I9="無"),"中","低")))
A10: =IF(B10="","",ROW()-5) | H10: =IF(OR(F10="",G10=""),"",ROUND(F10*G10/60,1)) | K10: =IF(B10="","",IF(AND(E10="なし",I10="無"),"高",IF(OR(E10="なし",I10="無"),"中","低")))
A11: =IF(B11="","",ROW()-5) | H11: =IF(OR(F11="",G11=""),"",ROUND(F11*G11/60,1)) | K11: =IF(B11="","",IF(AND(E11="なし",I11="無"),"高",IF(OR(E11="なし",I11="無"),"中","低")))
A12: =IF(B12="","",ROW()-5) | H12: =IF(OR(F12="",G12=""),"",ROUND(F12*G12/60,1)) | K12: =IF(B12="","",IF(AND(E12="なし",I12="無"),"高",IF(OR(E12="なし",I12="無"),"中","低")))
A13: =IF(B13="","",ROW()-5) | H13: =IF(OR(F13="",G13=""),"",ROUND(F13*G13/60,1)) | K13: =IF(B13="","",IF(AND(E13="なし",I13="無"),"高",IF(OR(E13="なし",I13="無"),"中","低")))
A14: =IF(B14="","",ROW()-5) | H14: =IF(OR(F14="",G14=""),"",ROUND(F14*G14/60,1)) | K14: =IF(B14="","",IF(AND(E14="なし",I14="無"),"高",IF(OR(E14="なし",I14="無"),"中","低")))
A15: =IF(B15="","",ROW()-5) | H15: =IF(OR(F15="",G15=""),"",ROUND(F15*G15/60,1)) | K15: =IF(B15="","",IF(AND(E15="なし",I15="無"),"高",IF(OR(E15="なし",I15="無"),"中","低")))
A16: =IF(B16="","",ROW()-5) | H16: =IF(OR(F16="",G16=""),"",ROUND(F16*G16/60,1)) | K16: =IF(B16="","",IF(AND(E16="なし",I16="無"),"高",IF(OR(E16="なし",I16="無"),"中","低")))
A17: =IF(B17="","",ROW()-5) | H17: =IF(OR(F17="",G17=""),"",ROUND(F17*G17/60,1)) | K17: =IF(B17="","",IF(AND(E17="なし",I17="無"),"高",IF(OR(E17="なし",I17="無"),"中","低")))
A18: =IF(B18="","",ROW()-5) | H18: =IF(OR(F18="",G18=""),"",ROUND(F18*G18/60,1)) | K18: =IF(B18="","",IF(AND(E18="なし",I18="無"),"高",IF(OR(E18="なし",I18="無"),"中","低")))
A19: =IF(B19="","",ROW()-5) | H19: =IF(OR(F19="",G19=""),"",ROUND(F19*G19/60,1)) | K19: =IF(B19="","",IF(AND(E19="なし",I19="無"),"高",IF(OR(E19="なし",I19="無"),"中","低")))
A20: =IF(B20="","",ROW()-5) | H20: =IF(OR(F20="",G20=""),"",ROUND(F20*G20/60,1)) | K20: =IF(B20="","",IF(AND(E20="なし",I20="無"),"高",IF(OR(E20="なし",I20="無"),"中","低")))
... A55: =IF(B55="","",ROW()-5) | H55: =IF(OR(F55="",G55=""),"",ROUND(F55*G55/60,1)) | K55: =IF(B55="","",IF(AND(E55="なし",I55="無"),"高",IF(OR(E55="なし",I55="無"),"中","低")))
B57: 合計 | H57: =ROUND(SUM(H6:H55),1) -> 26 | J57: うちリスク「高」 | K57: =COUNTIF(K6:K55,"高")&"件" -> 2件
B59: ■ 偏りリスクの判定基準
B60: 高：副担当が「なし」かつマニュアルが「無」。担当者が休むとその場で止まる業務です。最優先で手を打ちます。
B61: 中：副担当かマニュアルのどちらかが欠けている状態。引き継ぎに時間がかかります。
B62: 低：代われる人がいて手順も残っている状態。維持できているかを定期的に確認します。

Sheet 担当者別集計
A1: 担当者別集計
A2: 月間所定労働時間 | B2: 160 | C2: 時間 ←自社の所定労働時間を入力してください
A3: 担当者名を入力すると、「業務分担表」シートから工数が自動で集計されます。名前は分担表シートの表記と一致させてください。
A5: 担当者 | B5: 担当 業務数 | C5: 月間工数 (時間) | D5: 稼働率 | E5: チーム内 シェア | F5: 平均比 | G5: 代われる人が いない業務 | H5: 判定
A6: 佐藤 | B6: =IF(A6="","",COUNTIF('業務分担表'!$D$6:$D$55,A6)) -> 2 | C6: =IF(A6="","",ROUND(SUMIF('業務分担表'!$D$6:$D$55,A6,'業務分担表'!$H$6:$H$55),1)) -> 18 | D6: =IF(OR(A6="",$B$2=0),"",C6/$B$2) -> 0.1125 | E6: =IF(OR(A6="",$C$21=0),"",C6/$C$21) -> 0.69230769 | F6: =IF(OR(A6="",$C$22=0),"",C6/$C$22) -> 2.0689655 | G6: =IF(A6="","",COUNTIFS('業務分担表'!$D$6:$D$55,A6,'業務分担表'!$E$6:$E$55,"なし")) -> 1 | H6: =IF(A6="","",IF(B6=0,"担当業務なし",IF(F6>=1.3,"偏りあり（過多）",IF(F6<=0.7,"偏りあり（余裕）","適正範囲")))) -> 偏りあり（過多）
A7: 鈴木 | B7: =IF(A7="","",COUNTIF('業務分担表'!$D$6:$D$55,A7)) -> 1 | C7: =IF(A7="","",ROUND(SUMIF('業務分担表'!$D$6:$D$55,A7,'業務分担表'!$H$6:$H$55),1)) -> 8 | D7: =IF(OR(A7="",$B$2=0),"",C7/$B$2) -> 0.05 | E7: =IF(OR(A7="",$C$21=0),"",C7/$C$21) -> 0.30769231 | F7: =IF(OR(A7="",$C$22=0),"",C7/$C$22) -> 0.91954023 | G7: =IF(A7="","",COUNTIFS('業務分担表'!$D$6:$D$55,A7,'業務分担表'!$E$6:$E$55,"なし")) -> 1 | H7: =IF(A7="","",IF(B7=0,"担当業務なし",IF(F7>=1.3,"偏りあり（過多）",IF(F7<=0.7,"偏りあり（余裕）","適正範囲")))) -> 適正範囲
A8: 田中 | B8: =IF(A8="","",COUNTIF('業務分担表'!$D$6:$D$55,A8)) -> 0 | C8: =IF(A8="","",ROUND(SUMIF('業務分担表'!$D$6:$D$55,A8,'業務分担表'!$H$6:$H$55),1)) -> 0 | D8: =IF(OR(A8="",$B$2=0),"",C8/$B$2) -> 0 | E8: =IF(OR(A8="",$C$21=0),"",C8/$C$21) -> 0 | F8: =IF(OR(A8="",$C$22=0),"",C8/$C$22) -> 0 | G8: =IF(A8="","",COUNTIFS('業務分担表'!$D$6:$D$55,A8,'業務分担表'!$E$6:$E$55,"なし")) -> 0 | H8: =IF(A8="","",IF(B8=0,"担当業務なし",IF(F8>=1.3,"偏りあり（過多）",IF(F8<=0.7,"偏りあり（余裕）","適正範囲")))) -> 担当業務なし
B9: =IF(A9="","",COUNTIF('業務分担表'!$D$6:$D$55,A9)) | C9: =IF(A9="","",ROUND(SUMIF('業務分担表'!$D$6:$D$55,A9,'業務分担表'!$H$6:$H$55),1)) | D9: =IF(OR(A9="",$B$2=0),"",C9/$B$2) | E9: =IF(OR(A9="",$C$21=0),"",C9/$C$21) | F9: =IF(OR(A9="",$C$22=0),"",C9/$C$22) | G9: =IF(A9="","",COUNTIFS('業務分担表'!$D$6:$D$55,A9,'業務分担表'!$E$6:$E$55,"なし")) | H9: =IF(A9="","",IF(B9=0,"担当業務なし",IF(F9>=1.3,"偏りあり（過多）",IF(F9<=0.7,"偏りあり（余裕）","適正範囲"))))
B10: =IF(A10="","",COUNTIF('業務分担表'!$D$6:$D$55,A10)) | C10: =IF(A10="","",ROUND(SUMIF('業務分担表'!$D$6:$D$55,A10,'業務分担表'!$H$6:$H$55),1)) | D10: =IF(OR(A10="",$B$2=0),"",C10/$B$2) | E10: =IF(OR(A10="",$C$21=0),"",C10/$C$21) | F10: =IF(OR(A10="",$C$22=0),"",C10/$C$22) | G10: =IF(A10="","",COUNTIFS('業務分担表'!$D$6:$D$55,A10,'業務分担表'!$E$6:$E$55,"なし")) | H10: =IF(A10="","",IF(B10=0,"担当業務なし",IF(F10>=1.3,"偏りあり（過多）",IF(F10<=0.7,"偏りあり（余裕）","適正範囲"))))
B11: =IF(A11="","",COUNTIF('業務分担表'!$D$6:$D$55,A11)) | C11: =IF(A11="","",ROUND(SUMIF('業務分担表'!$D$6:$D$55,A11,'業務分担表'!$H$6:$H$55),1)) | D11: =IF(OR(A11="",$B$2=0),"",C11/$B$2) | E11: =IF(OR(A11="",$C$21=0),"",C11/$C$21) | F11: =IF(OR(A11="",$C$22=0),"",C11/$C$22) | G11: =IF(A11="","",COUNTIFS('業務分担表'!$D$6:$D$55,A11,'業務分担表'!$E$6:$E$55,"なし")) | H11: =IF(A11="","",IF(B11=0,"担当業務なし",IF(F11>=1.3,"偏りあり（過多）",IF(F11<=0.7,"偏りあり（余裕）","適正範囲"))))
B12: =IF(A12="","",COUNTIF('業務分担表'!$D$6:$D$55,A12)) | C12: =IF(A12="","",ROUND(SUMIF('業務分担表'!$D$6:$D$55,A12,'業務分担表'!$H$6:$H$55),1)) | D12: =IF(OR(A12="",$B$2=0),"",C12/$B$2) | E12: =IF(OR(A12="",$C$21=0),"",C12/$C$21) | F12: =IF(OR(A12="",$C$22=0),"",C12/$C$22) | G12: =IF(A12="","",COUNTIFS('業務分担表'!$D$6:$D$55,A12,'業務分担表'!$E$6:$E$55,"なし")) | H12: =IF(A12="","",IF(B12=0,"担当業務なし",IF(F12>=1.3,"偏りあり（過多）",IF(F12<=0.7,"偏りあり（余裕）","適正範囲"))))
B13: =IF(A13="","",COUNTIF('業務分担表'!$D$6:$D$55,A13)) | C13: =IF(A13="","",ROUND(SUMIF('業務分担表'!$D$6:$D$55,A13,'業務分担表'!$H$6:$H$55),1)) | D13: =IF(OR(A13="",$B$2=0),"",C13/$B$2) | E13: =IF(OR(A13="",$C$21=0),"",C13/$C$21) | F13: =IF(OR(A13="",$C$22=0),"",C13/$C$22) | G13: =IF(A13="","",COUNTIFS('業務分担表'!$D$6:$D$55,A13,'業務分担表'!$E$6:$E$55,"なし")) | H13: =IF(A13="","",IF(B13=0,"担当業務なし",IF(F13>=1.3,"偏りあり（過多）",IF(F13<=0.7,"偏りあり（余裕）","適正範囲"))))
B14: =IF(A14="","",COUNTIF('業務分担表'!$D$6:$D$55,A14)) | C14: =IF(A14="","",ROUND(SUMIF('業務分担表'!$D$6:$D$55,A14,'業務分担表'!$H$6:$H$55),1)) | D14: =IF(OR(A14="",$B$2=0),"",C14/$B$2) | E14: =IF(OR(A14="",$C$21=0),"",C14/$C$21) | F14: =IF(OR(A14="",$C$22=0),"",C14/$C$22) | G14: =IF(A14="","",COUNTIFS('業務分担表'!$D$6:$D$55,A14,'業務分担表'!$E$6:$E$55,"なし")) | H14: =IF(A14="","",IF(B14=0,"担当業務なし",IF(F14>=1.3,"偏りあり（過多）",IF(F14<=0.7,"偏りあり（余裕）","適正範囲"))))
B15: =IF(A15="","",COUNTIF('業務分担表'!$D$6:$D$55,A15)) | C15: =IF(A15="","",ROUND(SUMIF('業務分担表'!$D$6:$D$55,A15,'業務分担表'!$H$6:$H$55),1)) | D15: =IF(OR(A15="",$B$2=0),"",C15/$B$2) | E15: =IF(OR(A15="",$C$21=0),"",C15/$C$21) | F15: =IF(OR(A15="",$C$22=0),"",C15/$C$22) | G15: =IF(A15="","",COUNTIFS('業務分担表'!$D$6:$D$55,A15,'業務分担表'!$E$6:$E$55,"なし")) | H15: =IF(A15="","",IF(B15=0,"担当業務なし",IF(F15>=1.3,"偏りあり（過多）",IF(F15<=0.7,"偏りあり（余裕）","適正範囲"))))
B16: =IF(A16="","",COUNTIF('業務分担表'!$D$6:$D$55,A16)) | C16: =IF(A16="","",ROUND(SUMIF('業務分担表'!$D$6:$D$55,A16,'業務分担表'!$H$6:$H$55),1)) | D16: =IF(OR(A16="",$B$2=0),"",C16/$B$2) | E16: =IF(OR(A16="",$C$21=0),"",C16/$C$21) | F16: =IF(OR(A16="",$C$22=0),"",C16/$C$22) | G16: =IF(A16="","",COUNTIFS('業務分担表'!$D$6:$D$55,A16,'業務分担表'!$E$6:$E$55,"なし")) | H16: =IF(A16="","",IF(B16=0,"担当業務なし",IF(F16>=1.3,"偏りあり（過多）",IF(F16<=0.7,"偏りあり（余裕）","適正範囲"))))
B17: =IF(A17="","",COUNTIF('業務分担表'!$D$6:$D$55,A17)) | C17: =IF(A17="","",ROUND(SUMIF('業務分担表'!$D$6:$D$55,A17,'業務分担表'!$H$6:$H$55),1)) | D17: =IF(OR(A17="",$B$2=0),"",C17/$B$2) | E17: =IF(OR(A17="",$C$21=0),"",C17/$C$21) | F17: =IF(OR(A17="",$C$22=0),"",C17/$C$22) | G17: =IF(A17="","",COUNTIFS('業務分担表'!$D$6:$D$55,A17,'業務分担表'!$E$6:$E$55,"なし")) | H17: =IF(A17="","",IF(B17=0,"担当業務なし",IF(F17>=1.3,"偏りあり（過多）",IF(F17<=0.7,"偏りあり（余裕）","適正範囲"))))
B18: =IF(A18="","",COUNTIF('業務分担表'!$D$6:$D$55,A18)) | C18: =IF(A18="","",ROUND(SUMIF('業務分担表'!$D$6:$D$55,A18,'業務分担表'!$H$6:$H$55),1)) | D18: =IF(OR(A18="",$B$2=0),"",C18/$B$2) | E18: =IF(OR(A18="",$C$21=0),"",C18/$C$21) | F18: =IF(OR(A18="",$C$22=0),"",C18/$C$22) | G18: =IF(A18="","",COUNTIFS('業務分担表'!$D$6:$D$55,A18,'業務分担表'!$E$6:$E$55,"なし")) | H18: =IF(A18="","",IF(B18=0,"担当業務なし",IF(F18>=1.3,"偏りあり（過多）",IF(F18<=0.7,"偏りあり（余裕）","適正範囲"))))
B19: =IF(A19="","",COUNTIF('業務分担表'!$D$6:$D$55,A19)) | C19: =IF(A19="","",ROUND(SUMIF('業務分担表'!$D$6:$D$55,A19,'業務分担表'!$H$6:$H$55),1)) | D19: =IF(OR(A19="",$B$2=0),"",C19/$B$2) | E19: =IF(OR(A19="",$C$21=0),"",C19/$C$21) | F19: =IF(OR(A19="",$C$22=0),"",C19/$C$22) | G19: =IF(A19="","",COUNTIFS('業務分担表'!$D$6:$D$55,A19,'業務分担表'!$E$6:$E$55,"なし")) | H19: =IF(A19="","",IF(B19=0,"担当業務なし",IF(F19>=1.3,"偏りあり（過多）",IF(F19<=0.7,"偏りあり（余裕）","適正範囲"))))
B20: =IF(A20="","",COUNTIF('業務分担表'!$D$6:$D$55,A20)) | C20: =IF(A20="","",ROUND(SUMIF('業務分担表'!$D$6:$D$55,A20,'業務分担表'!$H$6:$H$55),1)) | D20: =IF(OR(A20="",$B$2=0),"",C20/$B$2) | E20: =IF(OR(A20="",$C$21=0),"",C20/$C$21) | F20: =IF(OR(A20="",$C$22=0),"",C20/$C$22) | G20: =IF(A20="","",COUNTIFS('業務分担表'!$D$6:$D$55,A20,'業務分担表'!$E$6:$E$55,"なし")) | H20: =IF(A20="","",IF(B20=0,"担当業務なし",IF(F20>=1.3,"偏りあり（過多）",IF(F20<=0.7,"偏りあり（余裕）","適正範囲"))))
A21: 合計 | B21: =SUM(B6:B20) -> 3 | C21: =ROUND(SUM(C6:C20),1) -> 26 | G21: =SUM(G6:G20) -> 2
A22: 1人あたり平均 | C22: =IF(COUNT(C6:C20)=0,0,ROUND(AVERAGE(C6:C20),1)) -> 8.7
A24: ■ 判定の見方
A25: 平均比が1.3倍以上：チーム平均より3割以上多く抱えています。まず割り振り直しの対象になります。
A26: 平均比が0.7倍以下：手が空いている状態です。受け皿になれる業務がないかを確認します。
A27: 稼働率が100%を超える：所定労働時間内では終わらない量です。残業が常態化していないか確認してください。
A28: 「代われる人がいない業務」が多い担当者は、工数が平均並みでも休みを取りにくい状態にあります。
