Workbook
Name OLE_LINK1: Sheet1!$B$14

Sheet 入力例
A1: 国民年金保険料クレジットカード納付（変更）申出書
A15: クレジットカード納付を行う被保険者のことについて入力してください。
C21: 申出日 | Z21: 令和 | AF21: 8 | AL21: 年 | AP21: 8 | AV21: 月 | AZ21: 20 | BF21: 日
C27: 被保険者氏名 | Z27: 長谷川 修平
C33: 個人番号または基礎年金番号 | Z33: 1234567890
C39: 生年月日 | Z39: 昭和 | AI39: 55 | AO39: 年 | AS39: 3 | AY39: 月 | BC39: 12 | BI39: 日
C41: 電話番号 | Z41: 自宅 | AM41: 043 | AY41: － | BC41: 654 | BO41: － | BS41: 1234
C43: 郵便番号 | Z43: 260 | AH43: － | AL43: 0013
C47: 住所 | Z47: 千葉県千葉市中央区中央三丁目1234 中央コート201号
A53: クレジットカードについて入力してください。
C59: クレジットカード番号 | Z59: 9999 | AL59: － | AP59: 9999 | BB59: － | BF59: 9999 | BR59: － | BV59: 9999
Z64: ※カード番号が16桁未満の場合は、右詰めで4桁ずつ入力してください。
C66: クレジットカード有効期限 | Z66: 8 | AF66: 月 ／20 | AO66: 29 | AU66: 年
C72: クレジットカード会社 | Z72: ＶＩＳＡ
C74: クレジットカード名義人 | Z74: 印刷した申出書にクレジットカード会員の方が自署でご記入ください。 被保険者本人のクレジットカードであっても、クレジットカード名義人氏名をご記入ください。
C81: 被保険者との続柄 | Z81: 父
C87: 電話番号 | Z87: 043 | AL87: － | AP87: 654 | BB87: － | BF87: 1234
A95: 納付方法について入力してください。
C100: ６ ２年前納（４月開始）
C102: 納付方法 | V102: 納付方法の説明 | BI102: 前納期間 | CB102: 立替納付日
C103: 1 | H103: 毎月納付 | V103: 当月分の保険料を納付する方法です。 | BI103: ー | CB103: 当月末日
C105: 2 | H105: ６カ月前納 | V105: ６カ月分の保険料をまとめて納付する方法です。 | BI105: （上期）４月～９月 | CB105: （上期）４月末日
BI106: （下期）１０月～翌年３月 | CB106: （下期）１０月末日
C107: 3 | H107: １年前納 | V107: １年分の保険料をまとめて納付する方法です。 | BI107: ４月～翌年３月 | CB107: 4月末日
C109: 5 | H109: ２年前納 | V109: ２年分の保険料をまとめて納付する方法です。 | BI109: ４月～翌々年３月 | CB109: 4月末日
C111: 6 | H111: ２年前納 （4月開始） | V111: ２年分の保険料をまとめて納付する方法です。
B114: ※「６カ月前納」、「１年前納」、「２年前納」、「２年前納（４月開始）」の場合は、割引された保険料をカード会社が立 替納付します。 割引額が多いのは、「２年前納」、「２年前納（４月開始）」＞「１年前納」＞「６カ月前納」の順になります。
B117: ※「６カ月前納」、「１年前納」、「２年前納」、「２年前納（４月開始）」を選択する場合は、初回立替納付日によって初 回の立替納付対象期間が異なりますので、「前納における初回立替納付について」をご確認ください。
B121: 前納における初回立替納付について
B122: ①初回立替納付の際の立替納付対象期間は、初回立替納付日の属する月分（月の末日が非営業日のため、初回立替納付日が翌月の 第一営業日となる場合は、当該日の属する月の前月分）から当年度３月分（２年前納の場合は翌年度３月分）となります。
B123: ②６カ月前納の初回立替納付日が５月末日から９月末日までの場合、当月分の保険料を割引なしで当月末日に立替納付し、１０月 末日に６カ月前納が開始されます。
B124: ③「２年前納（４月開始）」の初回立替納付日が５月末日から当年度３月末日の場合は、当年度３月分の保険料までは自動的に割 引のない毎月納付となり、翌年度４月末日に２年前納を開始します。
B125: ④「２年前納（４月開始）」を選択し、直近の４月から２年前納の開始を希望される場合は、２月末までに申出書を日本年金機構 に提出 (必着)してください。
B127: 【個人番号(マイナンバー)により申し出する際の添付書類について】
B128: 申出者本人が窓口で申出書を提出する場合は、マイナンバーカード(個人番号カード)を提示してください。 お持ちでない場合は、以下の①および②を提示してください。 なお、郵送で申出書を提出する場合は、マイナンバーカードの表・裏両面または①および②のコピーを添付してください。 ①マイナンバーが確認できる書類：個人番号の表示がある住民票の写し、通知カード(氏名、住所等が住民票の記載と一致する 場合に限る) ②身元(実存)確認書類：運転免許証、パスポート、在留カードなど※ ※ 上記以外の②身元(実存)確認書類の詳細は、最寄りの年金事務所へお問い合わせください。

Sheet 国民年金保険料クレジットカード納付（変更）申出書
A1: 国民年金保険料クレジットカード納付（変更）申出書
B2: ※入力例のシートを参照し、色付きの欄を入力してください。
V7: …プルダウンから選択 | BM7: …入力
A15: クレジットカード納付を行う被保険者のことについて入力してください。
D21: 申出日 | AA21: 令和 | AG21: 8 | AM21: 年 | AQ21: 8 | AW21: 月 | BA21: 20 | BG21: 日
D27: 被保険者氏名 | AA27: 長谷川 修平
D33: 個人番号または基礎年金番号 | AA33: 1234567890 | BE33: =IF(データ反映用!K5="","","※個人番号で申し出する場合には添付書類が必要になります。詳細は記入例裏面をご確認ください。")
D39: 生年月日 | AA39: 昭和 | AJ39: 55 | AP39: 年 | AT39: 3 | AZ39: 月 | BD39: 12 | BJ39: 日
D41: 電話番号 | AA41: 自宅 | AN41: 043 | AZ41: － | BD41: 654 | BP41: － | BT41: 1234 | CG41: ※市外局番から入力してください。
D43: 郵便番号 | AA43: 260 | AI43: － | AM43: 0013
D47: 住所 | AA47: 千葉県千葉市中央区中央三丁目1234 中央コート201号
A53: クレジットカードについて入力してください。
D59: クレジットカード番号 | AA59: 9999 | AM59: － | AQ59: 9999 | BC59: － | BG59: 9999 | BS59: － | BW59: 9999
AA64: ※カード番号が16桁未満の場合は、右詰めで4桁ずつ入力してください。
D65: クレジットカード有効期限 | AA65: 8 | AG65: 月 ／20 | AP65: 29 | AV65: 年
D71: クレジットカード会社 | AA71: ＶＩＳＡ
D73: クレジットカード名義人 | AA73: 印刷した申出書にクレジットカード会員の方が自署でご記入ください。 被保険者本人のクレジットカードであっても、クレジットカード名義人氏名をご記入ください。
AT79: ※クレジットカード名義人が本人又は配偶者以外の場合は、同意書を合わせて提出してください。
D80: 被保険者との続柄 | AA80: 父
D86: 電話番号 | AA86: 043 | AM86: － | AQ86: 654 | BC86: － | BG86: 1234 | BS86: ※クレジットカード名義人が本人以外の場合にご入力ください。 被保険者との続柄が本人・配偶者以外の場合は、クレジットカード名義人に対し、電話または書面による同意確認を行います。
A94: 納付方法について入力してください。
D100: ２ ６カ月前納 | AA100: 下記の表から希望する納付方法を一つ選択してください。
D102: 納付方法 | W102: 納付方法の説明 | BH102: 前納期間 | CA102: 立替納付日
D103: 1 | I103: 毎月納付 | W103: 当月分の保険料を納付する方法です。 | BH103: － | CA103: 当月末日
D105: 2 | I105: ６カ月前納 | W105: ６カ月分の保険料をまとめて納付する方法です。 | BH105: （上期）４月～９月 | CA105: （上期）４月末日
BH106: （下期）１０月～翌年３月 | CA106: （下期）１０月末日
D107: 3 | I107: １年前納 | W107: １年分の保険料をまとめて納付する方法です。 | BH107: ４月～翌年３月 | CA107: ４月末日
D109: 5 | I109: ２年前納 | W109: ２年分の保険料をまとめて納付する方法です。 | BH109: ４月～翌々年３月 | CA109: ４月末日
D111: 6 | I111: ２年前納 （４月開始） | W111: ２年分の保険料をまとめて納付する方法です。
D114: （注意事項） 「２年前納（４月開始）」の初回立替納付日が５月末日から当年度３月末日の場合は、当年度３月分までの保険料までは自動 的に割引のない毎月納付となり、翌年度４月末日に２年前納を開始します。
D115: ※「６カ月前納」、「１年前納」、「２年前納」、「２年前納（４月開始）」の場合は、割引された保険料をカード会社が立替 納付します。 割引額が多いのは、「２年前納」、「２年前納（４月開始）」＞「１年前納」＞「６カ月前納」の順になります。
D116: ※「６カ月前納」、「１年前納」、「２年前納」、「２年前納（４月開始）」を選択する場合は、初回立替納付日によって初 回の立替納付対象期間が異なりますので、記入例裏面「前納における初回立替納付について」をご確認ください。
A119: 以上で、入力項目は終了です。 入力内容にもれや誤りがないかご確認ください。 Ａ４用紙に片面で印刷してください。なお、３枚目以降は両面印刷も可能です。 １枚目（年金事務所用）及び３枚目（被保険者控用）の「クレジットカード名義人氏名（自署）」欄にカード名義人が氏名を自署し、１枚目（年金事務所用）と２枚目（入力用）をお近くの年金事務所に提出してください。 ３枚目（被保険者控用）以降については、登録が確認できるまで保管してください（登録後に日本年金機構からハガキ「国民年金保険料クレジットカード納付開始（変更）通知書」を送付します）。 なお、印刷した結果、氏名や住所等が印字できなかった場合は、手書きで余白に追記するか空白にして再度印刷し、手書きで記入してください。
E131: 届書コード | AP131: 年金事務所用 | BI131: 決 裁 令和 年 月 日
E132: 6 | H132: 5 | K132: 4 | N132: 2 | BI132: 事務センター長 | BR132: 副事務センター長 | CA132: グループ長 | CJ132: 担当者
C137: 国民年金保険料クレジットカード納付（変更）申出書
J139: 日本年金機構理事長 あて | BU139: 令和 | BY139: =IF(AG21="","",AG21) -> 8 | CC139: 年 | CE139: =IF(AQ21="","",AQ21) -> 8 | CI139: 月 | CK139: =IF(BA21="","",BA21) -> 20 | CO139: 日
F141: 私は、下記国民年金保険料をクレジットカードにより定期的に納付したいので、保険料額等必要な事項を記載した
F142: 納付書は、指定の指定代理納付者へ送付してください。
E144: １．被保険者の基礎年金番号・指定クレジットカード等
...

Sheet データ反映用
A2: 申出書反映用
A4: 個人番号または基礎年金番号
A5: =MID('国民年金保険料クレジットカード納付（変更）申出書'!AA33,1,1) -> 1 | B5: =MID('国民年金保険料クレジットカード納付（変更）申出書'!AA33,2,1) -> 2 | C5: =MID('国民年金保険料クレジットカード納付（変更）申出書'!AA33,3,1) -> 3 | D5: =MID('国民年金保険料クレジットカード納付（変更）申出書'!AA33,4,1) -> 4 | E5: =MID('国民年金保険料クレジットカード納付（変更）申出書'!AA33,5,1) -> 5 | F5: =MID('国民年金保険料クレジットカード納付（変更）申出書'!AA33,6,1) -> 6 | G5: =MID('国民年金保険料クレジットカード納付（変更）申出書'!AA33,7,1) -> 7 | H5: =MID('国民年金保険料クレジットカード納付（変更）申出書'!AA33,8,1) -> 8 | I5: =MID('国民年金保険料クレジットカード納付（変更）申出書'!AA33,9,1) -> 9 | J5: =MID('国民年金保険料クレジットカード納付（変更）申出書'!AA33,10,1) -> 0 | K5: =MID('国民年金保険料クレジットカード納付（変更）申出書'!AA33,11,1) | L5: =MID('国民年金保険料クレジットカード納付（変更）申出書'!AA33,12,1) | M5: 10
M6: 12
M7: =OR(M5,M6) -> TRUE
A9: 生年月日
A10: =RIGHT("00"&'国民年金保険料クレジットカード納付（変更）申出書'!AJ39,2) -> 55 | B10: 年 | C10: =RIGHT("00"&'国民年金保険料クレジットカード納付（変更）申出書'!AT39,2) -> 03 | D10: 月 | E10: =RIGHT("00"&'国民年金保険料クレジットカード納付（変更）申出書'!BD39,2) -> 12 | F10: 日 | G10: ←入力内容を2桁に変換
A11: =MID(A10,1,1) -> 5 | B11: =MID(A10,2,1) -> 5 | C11: =MID(C10,1,1) -> 0 | D11: =MID(C10,2,1) -> 3 | E11: =MID(E10,1,1) -> 1 | F11: =MID(E10,2,1) -> 2 | G11: ←申出書反映用
A14: カード有効期限
A15: =RIGHT("00"&'国民年金保険料クレジットカード納付（変更）申出書'!AA65,2) -> 08 | B15: 月 | C15: /20 | D15: =RIGHT("00"&'国民年金保険料クレジットカード納付（変更）申出書'!AP65,2) -> 29 | E15: 年 | F15: ←入力内容を2桁に変換
A16: =MID(A15,1,1) -> 0 | B16: =MID(A15,2,1) -> 8 | D16: =MID(D15,1,1) -> 2 | E16: =MID(D15,2,1) -> 9 | F16: ←申出書反映用 | H16: ※入力規則のエラーメッセージ更新すること
A19: カード番号
A20: =RIGHT("0000"&'国民年金保険料クレジットカード納付（変更）申出書'!AA59,4) -> 9999 | B20: － | C20: =RIGHT("0000"&'国民年金保険料クレジットカード納付（変更）申出書'!AQ59,4) -> 9999 | D20: － | E20: 4桁のみ | F20: － | G20: 4桁のみ | H20: ←入力内容を4桁に変換
A21: =IF('国民年金保険料クレジットカード納付（変更）申出書'!AA59<1000,"",MID(A20,1,1)) -> 9 | B21: =IF('国民年金保険料クレジットカード納付（変更）申出書'!AA59<100,"",MID(A20,2,1)) -> 9 | C21: =IF('国民年金保険料クレジットカード納付（変更）申出書'!AA59<10,"",MID(A20,3,1)) -> 9 | D21: =IF('国民年金保険料クレジットカード納付（変更）申出書'!AA59<1,"",MID(A20,4,1)) -> 9 | E21: =MID(C20,1,1) -> 9 | F21: =MID(C20,2,1) -> 9 | G21: =MID(C20,3,1) -> 9 | H21: =MID(C20,4,1) -> 9 | I21: =MID('国民年金保険料クレジットカード納付（変更）申出書'!BG59,1,1) -> 9 | J21: =MID('国民年金保険料クレジットカード納付（変更）申出書'!BG59,2,1) -> 9 | K21: =MID('国民年金保険料クレジットカード納付（変更）申出書'!BG59,3,1) -> 9 | L21: =MID('国民年金保険料クレジットカード納付（変更）申出書'!BG59,4,1) -> 9 | M21: =MID('国民年金保険料クレジットカード納付（変更）申出書'!BW59,1,1) -> 9 | N21: =MID('国民年金保険料クレジットカード納付（変更）申出書'!BW59,2,1) -> 9 | O21: =MID('国民年金保険料クレジットカード納付（変更）申出書'!BW59,3,1) -> 9 | P21: =MID('国民年金保険料クレジットカード納付（変更）申出書'!BW59,4,1) -> 9
A25: 昭和 | B25: ⑤ 昭和
A26: 平成 | B26: ⑦ 平成 | C26: =IF('国民年金保険料クレジットカード納付（変更）申出書'!AA39="","",VLOOKUP('国民年金保険料クレジットカード納付（変更）申出書'!AA39,A25:B27,2,FALSE)) -> ⑤ 昭和
A28: 自宅 | B28: ① 自宅 | C28: =IF('国民年金保険料クレジットカード納付（変更）申出書'!AA41="","",VLOOKUP('国民年金保険料クレジットカード納付（変更）申出書'!AA41,A28:B31,2,FALSE)) -> ① 自宅
A29: 携帯 | B29: ② 携帯
A30: 勤務先 | B30: ③ 勤務先
A31: その他 | B31: ④ その他
A36: アメリカン・エキスプレス
A37: イオン
A38: ＮＣ日商連
A39: ＯＣ
A40: Ｏｒｉｃｏ
A41: セゾン
A42: ＪＣＢ
A43: 三井住友カード（FS）
A44: ダイナースクラブ
A45: ジャックス
A46: 東急
A47: トヨタファイナンス
... A55: Ｍａｓｔｅｒ
A59: １ 毎月納付 | B59: 毎月納付 | C59: =IF('国民年金保険料クレジットカード納付（変更）申出書'!D100="","",VLOOKUP('国民年金保険料クレジットカード納付（変更）申出書'!D100,A59:B63,2,FALSE)) -> ６カ月前納
A60: ２ ６カ月前納 | B60: ６カ月前納
A61: ３ １年前納 | B61: １年前納
A62: ５ ２年前納 | B62: ２年前納
A63: ６ ２年前納（４月開始） | B63: ２年前納 （４月開始）

Sheet Sheet1
B2: 「国民年金保険料クレジットカード納付（変更）申出書」による国民年金保険料のクレジットカード納付は、被保険者からお申し 込みいただいた内容を登録し、国民年金保険料を継続的にクレジットカードで納付するものです。金融機関等の窓口でクレジットカ ードを直接ご提示・お支払いいただく方法ではありません。 | D2: 「国民年金保険料クレジットカード納付（変更）申出書」による国民年金保険料のクレジットカード納付は、被保険者からお申し込みいただいた内容を登録し、国民年金保険料を継続的にクレジットカードで納付するものです。金融機関等の窓口でクレジットカードを直接ご提示・お支払いいただく方法ではありません。 国民年金保険料につきましては、被保険者が指定されたクレジットカードをお取り扱いする指定代理納付者（以下「カード会社」という。）に請求させていただきます。 カード会社から国民年金保険料の立替納付が行われますと、被保険者の国に対する国民年金保険料の納付義務は無くなりますが、これに代わって、被保険者はカード会社に対し、国民年金保険料と同額の債務を負うこととなります。 これらのことに加え、次の各事項をご了承いただいたうえでお申し込みください。 1. 申込手続きが完了したときは、「国民年金保険料クレジットカード納付開始（変更）通知書」を送付いたします。 2. クレジットカードの有効性が確認できないなどの理由で申込みを受け付けることができない場合は、「クレジットカード有効性確認結果のお知らせ」を送付いたします。この場合は、従来の納付方法を継続させていただきます。 3. 初回申込み手続きに２カ月程度かかる場合がありますので、手続き完了前の国民年金保険料につきましては、従来の方法により納付していただきます。なお、現在口座振替を利用されている場合は、クレジットカードによる納付開始月分の前月分までを口座振替により納付していただきます。 4. クレジットカード納付の支払い回数は、１回払いに限らせていただきます。 5. 被保険者からの辞退の申し出がない限り、クレジットカード納付を継続させていただきます。なお、カード会社の規定による会員資格の喪失及び国民年金保険料の一部又は全額を納付することを要しないこととされた場合は辞退したものとみなします。 6. クレジットカード納付では、口座振替における当月末振替（早割）は適用されません。また、クレジットカード納付による６カ月前納・１年前納・２年前納の割引額は、納付書で納めていただいた場合の割引額となります。（口座振替での前納による割引は適用されません。） 7. クレジットカード納付では、その都度領収証書その他領収した旨を通知する書面は発行いたしませんので、カード会社からの利用明細書等でご確認いただくことになります。なお、年に一度、社会保険料（国民年金保険料）控除証明書を発行いたします。 8. カード会社は、該当月末（該当月末が非営業日の場合は翌月第１営業日）に立替納付を行い、立替納付した日が国民年金保険料の収納年月日になりますが、カード会社からの利用明細書等の利用日は、該当月初から数えて第８営業日(前月末日が非営業日の場合第９営業日)※が記載されます。 ※該当日が月の１４日を超える場合においてはその月の１４日となります。 9. クレジットカード納付では、カード会社が立替納付を行う前に日本年金機構からカード会社にカード利用限度額や有効期限について確認し、カードが有効な場合、カード会社が立替納付を行います。なお、カードの確認作業は、立替納付対象月（前納の場合は立替納付対象期間の初月）の第８営業日（前月末日が非営業日の場合は第９営業日）から当月２０日の間に行いますので、カード利用限度額にご注意ください。 10. カード利用限度額を超えるなど、カード会社の規定によりクレジットカード納付ができない場合や、その他事務処理上の都合により、納付書を送付させていただく場合があります。 11. 「１年前納」・「２年前納」を希望されている場合、初回の立替納付は初回立替納付月から当年度又は翌年度３月分までの保険料をまとめて請求させていただきます。 「６カ月前納」を希望されている場合、初回立替納付月が１０月以降に限り、初回の立替納付は初回立替納付月から当年度３月分までの保険料をまとめて請求させていただきます。 「２年前納（４月開始）」を希望されている場合、初回立替納付月が４月に限り、４月から翌年度３月分までの保険料をまとめて請求させていただきます。 12. ６カ月前納、１年前納、２年前納の立替納付時にカード利用限度額を超えることによりクレジットカード納付ができなかった場合、前納分の再度の立替納付は行われません。次の前納分の立替納付までの間は自動的に割引のない毎月納付となります。なお、初回立替納付時の立替納付対象期間の最初の月分、４月分、１０月分(６カ月前納の場合のみ)については納付書を送付しますので、納付書により現金で納付していただきます。 13. 利用日とクレジットカード会社の締切日など事務の都合により２カ月分をまとめて１度にカード会社へお支払いいただくことがありますが、あらかじめご了承ください。 14. 有効期限が変更となった場合、被保険者に事前に通知することなく新しい有効期限がカード会社から日本年金機構に通知され、原則としてクレジットカード納付が継続されます。 一部、有効期限が日本年金機構に通知されないクレジットカードがございますので、ご注意ください。 15. カード番号が変更となった場合や有効期限が日本年金機構に通知されないカードで有効期限が到来した場合は、お手数ですが申込用紙「国民年金保険料クレジットカード納付（変更）申出書」に必要事項をご記入のうえ、お近くの年金事務所へご提出ください。 【デビットカードのご利用について】 16. 毎月納付の場合、立替納付対象月の第８営業日（前月末日が非営業日の場合は第９営業日）から当月２７日の間に口座から国民年金保険料と同額がお引き落としされます。また、６カ月前納・１年前納・２年前納の場合、カードの確認作業の際（立替納付対象期間の初月の第８営業日（前月末日が非営業日の場合は第９営業日）から当月２０日の間）に口座から国民年金保険料と同額がお引き落としされますので、ご注意ください。 【被保険者とカード会員が異なる場合】 17. 被保険者が国民年金保険料のクレジットカード納付をカード会員に委託したものとして取り扱わせていただき、カード会員の方はこれを承諾していただきます。なお、被保険者とカード会員の続柄が配偶者以外の場合は、カード会員に対して、年金事務所から電話または書面による同意確認を行っております。 18. 日本年金機構からの各種通知や連絡については、すべて被保険者に行うこととし、カード会員はこれに同意をしていただきます。 19. カード会社からの各種通知や連絡については、すべてカード会員に行うこととし、被保険者はこれに同意をしていただきます。
B3: 国民年金保険料につきましては、被保険者が指定されたクレジットカードをお取り扱いする指定代理納付者（以下「カード会社」 という。）に請求させていただきます。
B4: カード会社から国民年金保険料の立替納付が行われますと、被保険者の国に対する国民年金保険料の納付義務は無くなりますが、 これに代わって、被保険者はカード会社に対し、国民年金保険料と同額の債務を負うこととなります。
B5: これらのことに加え、次の各事項をご了承いただいたうえでお申し込みください。
B7: 1. 申込手続きが完了したときは、「国民年金保険料クレジットカード納付開始（変更）通知書」を送付いたします。
B8: 2. クレジットカードの有効性が確認できないなどの理由で申込みを受け付けることができない場合は、「クレジットカード有効性 確認結果のお知らせ」を送付いたします。この場合は、従来の納付方法を継続させていただきます。
B9: 3. 初回申込み手続きに２カ月程度かかる場合がありますので、手続き完了前の国民年金保険料につきましては、従来の方法により 納付していただきます。なお、現在口座振替を利用されている場合は、クレジットカードによる納付開始月分の前月分までを口 座振替により納付していただきます。
B10: 4. クレジットカード納付の支払い回数は、１回払いに限らせていただきます。
B11: 5. 被保険者からの辞退の申し出がない限り、クレジットカード納付を継続させていただきます。なお、カード会社の規定による会 員資格の喪失及び国民年金保険料の一部又は全額を納付することを要しないこととされた場合は辞退したものとみなします。
B12: 6. クレジットカード納付では、口座振替における当月末振替（早割）は適用されません。また、クレジットカード納付による６カ 月前納・１年前納・２年前納の割引額は、納付書で納めていただいた場合の割引額となります。（口座振替での前納による割引 は適用されません。）
B13: 7. クレジットカード納付では、その都度領収証書その他領収した旨を通知する書面は発行いたしませんので、カード会社からの利 用明細書等でご確認いただくことになります。なお、年に一度、社会保険料（国民年金保険料）控除証明書を発行いたします。
B14: 8. カード会社は、該当月末（該当月末が非営業日の場合は翌月第１営業日）に立替納付を行い、立替納付した日が国民年金保険料 の収納年月日になりますが、カード会社からの利用明細書等の利用日は、該当月初から数えて第８営業日(前月末日が非営業日 の場合第９営業日)※が記載されます。
B15: ※該当日が月の１４日を超える場合においてはその月の１４日となります。
... B33: 19. カード会社からの各種通知や連絡については、すべてカード会員に行うこととし、被保険者はこれに同意をしていただきます。

Sheet Sheet3
B2: 「国民年金保険料クレジットカード納付（変更）申出書」による国民年金保険料のクレジットカード納付は、被保険者からお申し込みいただいた内容を登録し、国民年金保険料を継続的にクレジットカードで納付するものです。金融機関等の窓口でクレジットカードを直接ご提示・お支払いいただく方法ではありません。 国民年金保険料につきましては、被保険者が指定されたクレジットカードをお取り扱いする指定代理納付者（以下「カード会社」という。）に請求させていただきます。 カード会社から国民年金保険料の立替納付が行われますと、被保険者の国に対する国民年金保険料の納付義務は無くなりますが、これに代わって、被保険者はカード会社に対し、国民年金保険料と同額の債務を負うこととなります。 これらのことに加え、次の各事項をご了承いただいたうえでお申し込みください。 1. 申込手続きが完了したときは、「国民年金保険料クレジットカード納付開始（変更）通知書」を送付いたします。 2. クレジットカードの有効性が確認できないなどの理由で申込みを受け付けることができない場合は、「クレジットカード有効性確認結果のお知らせ」を送付いたします。この場合は、従来の納付方法を継続させていただきます。 3. 初回申込み手続きに２カ月程度かかる場合がありますので、手続き完了前の国民年金保険料につきましては、従来の方法により納付していただきます。なお、現在口座振替を利用されている場合は、クレジットカードによる納付開始月分の前月分までを口座振替により納付していただきます。 4. クレジットカード納付の支払い回数は、１回払いに限らせていただきます。 5. 被保険者からの辞退の申し出がない限り、クレジットカード納付を継続させていただきます。なお、カード会社の規定による会員資格の喪失及び国民年金保険料の一部又は全額を納付することを要しないこととされた場合は辞退したものとみなします。 6. クレジットカード納付では、口座振替における当月末振替（早割）は適用されません。また、クレジットカード納付による６カ月前納・１年前納・２年前納の割引額は、納付書で納めていただいた場合の割引額となります。（口座振替での前納による割引は適用されません。） 7. クレジットカード納付では、その都度領収証書その他領収した旨を通知する書面は発行いたしませんので、カード会社からの利用明細書等でご確認いただくことになります。なお、年に一度、社会保険料（国民年金保険料）控除証明書を発行いたします。 8. カード会社は、該当月末（該当月末が非営業日の場合は翌月第１営業日）に立替納付を行い、立替納付した日が国民年金保険料の収納年月日になりますが、カード会社からの利用明細書等の利用日は、該当月初から数えて第８営業日(前月末日が非営業日の場合第９営業日)※が記載されます。 ※該当日が月の１４日を超える場合においてはその月の１４日となります。 9. クレジットカード納付では、カード会社が立替納付を行う前に日本年金機構からカード会社にカード利用限度額や有効期限について確認し、カードが有効な場合、カード会社が立替納付を行います。なお、カードの確認作業は、立替納付対象月（前納の場合は立替納付対象期間の初月）の第８営業日（前月末日が非営業日の場合は第９営業日）から当月２０日の間に行いますので、カード利用限度額にご注意ください。 10. カード利用限度額を超えるなど、カード会社の規定によりクレジットカード納付ができない場合や、その他事務処理上の都合により、納付書を送付させていただく場合があります。 11. 「１年前納」・「２年前納」を希望されている場合、初回の立替納付は初回立替納付月から当年度又は翌年度３月分までの保険料をまとめて請求させていただきます。 「６カ月前納」を希望されている場合、初回立替納付月が１０月以降に限り、初回の立替納付は初回立替納付月から当年度３月分までの保険料をまとめて請求させていただきます。 「２年前納（４月開始）」を希望されている場合、初回立替納付月が４月に限り、４月から翌年度３月分までの保険料をまとめて請求させていただきます。 12. ６カ月前納、１年前納、２年前納の立替納付時にカード利用限度額を超えることによりクレジットカード納付ができなかった場合、前納分の再度の立替納付は行われません。次の前納分の立替納付までの間は自動的に割引のない毎月納付となります。なお、初回立替納付時の立替納付対象期間の最初の月分、４月分、１０月分(６カ月前納の場合のみ)については納付書を送付しますので、納付書により現金で納付していただきます。 13. 利用日とクレジットカード会社の締切日など事務の都合により２カ月分をまとめて１度にカード会社へお支払いいただくことがありますが、あらかじめご了承ください。 14. 有効期限が変更となった場合、被保険者に事前に通知することなく新しい有効期限がカード会社から日本年金機構に通知され、原則としてクレジットカード納付が継続されます。 一部、有効期限が日本年金機構に通知されないクレジットカードがございますので、ご注意ください。 15. カード番号が変更となった場合や有効期限が日本年金機構に通知されないカードで有効期限が到来した場合は、お手数ですが申込用紙「国民年金保険料クレジットカード納付（変更）申出書」に必要事項をご記入のうえ、お近くの年金事務所へご提出ください。 【デビットカードのご利用について】 16. 毎月納付の場合、立替納付対象月の第８営業日（前月末日が非営業日の場合は第９営業日）から当月２７日の間に口座から国民年金保険料と同額がお引き落としされます。また、６カ月前納・１年前納・２年前納の場合、カードの確認作業の際（立替納付対象期間の初月の第８営業日（前月末日が非営業日の場合は第９営業日）から当月２０日の間）に口座から国民年金保険料と同額がお引き落としされますので、ご注意ください。 【被保険者とカード会員が異なる場合】 17. 被保険者が国民年金保険料のクレジットカード納付をカード会員に委託したものとして取り扱わせていただき、カード会員の方はこれを承諾していただきます。なお、被保険者とカード会員の続柄が配偶者以外の場合は、カード会員に対して、年金事務所から電話または書面による同意確認を行っております。 18. 日本年金機構からの各種通知や連絡については、すべて被保険者に行うこととし、カード会員はこれに同意をしていただきます。 19. カード会社からの各種通知や連絡については、すべてカード会員に行うこととし、被保険者はこれに同意をしていただきます。

Sheet Sheet2
